BEGIN:VCALENDAR
VERSION:2.0
PRODID:-//Midtown Improvement District - ECPv6.6.4.2//NONSGML v1.0//EN
CALSCALE:GREGORIAN
METHOD:PUBLISH
X-ORIGINAL-URL:http://midtownid.com
X-WR-CALDESC:Events for Midtown Improvement District
REFRESH-INTERVAL;VALUE=DURATION:PT1H
X-Robots-Tag:noindex
X-PUBLISHED-TTL:PT1H
BEGIN:VTIMEZONE
TZID:America/New_York
BEGIN:DAYLIGHT
TZOFFSETFROM:-0500
TZOFFSETTO:-0400
TZNAME:EDT
DTSTART:20240310T070000
END:DAYLIGHT
BEGIN:STANDARD
TZOFFSETFROM:-0400
TZOFFSETTO:-0500
TZNAME:EST
DTSTART:20241103T060000
END:STANDARD
BEGIN:DAYLIGHT
TZOFFSETFROM:-0500
TZOFFSETTO:-0400
TZNAME:EDT
DTSTART:20250309T070000
END:DAYLIGHT
BEGIN:STANDARD
TZOFFSETFROM:-0400
TZOFFSETTO:-0500
TZNAME:EST
DTSTART:20251102T060000
END:STANDARD
END:VTIMEZONE
BEGIN:VEVENT
DTSTART;TZID=America/New_York:20251009T153000
DTEND;TZID=America/New_York:20251009T153000
DTSTAMP:20260420T102844
CREATED:20250825T130800Z
LAST-MODIFIED:20251009T174659Z
UID:9521-1760023800-1760023800@midtownid.com
SUMMARY:Construction Committee Meeting October 9\, 2025 - Meeting Cancelled
DESCRIPTION:
URL:http://midtownid.com/event/construction-committee-meeting-october-9-2025
LOCATION:6900 Tavistock Lakes Blvd\, Ste 200\, Orlando\, FL 32827
END:VEVENT
BEGIN:VEVENT
DTSTART;TZID=America/New_York:20250916T153000
DTEND;TZID=America/New_York:20250916T153000
DTSTAMP:20260420T102844
CREATED:20240904T192955Z
LAST-MODIFIED:20250903T140055Z
UID:9141-1758036600-1758036600@midtownid.com
SUMMARY:BOS Meeting September 16\, 2025 - Meeting Cancelled
DESCRIPTION:
URL:http://midtownid.com/event/bos-meeting-september-16-2025
LOCATION:6900 Tavistock Lakes Blvd\, Ste 200\, Orlando\, FL 32827
END:VEVENT
BEGIN:VEVENT
DTSTART;TZID=America/New_York:20250911T153000
DTEND;TZID=America/New_York:20250911T153000
DTSTAMP:20260420T102844
CREATED:20240904T194740Z
LAST-MODIFIED:20250903T134703Z
UID:9163-1757604600-1757604600@midtownid.com
SUMMARY:Construction Committee Meeting September 11\, 2025 - Meeting Cancelled
DESCRIPTION:
URL:http://midtownid.com/event/construction-committee-meeting-september-11-2025
LOCATION:6900 Tavistock Lakes Blvd\, Ste 200\, Orlando\, FL 32827
END:VEVENT
BEGIN:VEVENT
DTSTART;TZID=America/New_York:20250819T153000
DTEND;TZID=America/New_York:20250819T153000
DTSTAMP:20260420T102844
CREATED:20240904T192907Z
LAST-MODIFIED:20250818T220632Z
UID:9139-1755617400-1755617400@midtownid.com
SUMMARY:BOS Meeting August 19\, 2025
DESCRIPTION:Agenda PDF | RTF \nUpdated PDF | RTF
URL:http://midtownid.com/event/bos-meeting-august-19-2025
LOCATION:6900 Tavistock Lakes Blvd\, Ste 200\, Orlando\, FL 32827
END:VEVENT
BEGIN:VEVENT
DTSTART;TZID=America/New_York:20250814T153000
DTEND;TZID=America/New_York:20250814T153000
DTSTAMP:20260420T102844
CREATED:20240904T194648Z
LAST-MODIFIED:20250812T214034Z
UID:9161-1755185400-1755185400@midtownid.com
SUMMARY:Construction Committee Meeting August 14\, 2025 - Meeting Cancelled
DESCRIPTION:
URL:http://midtownid.com/event/construction-committee-meeting-august-14-2025
LOCATION:6900 Tavistock Lakes Blvd\, Ste 200\, Orlando\, FL 32827
END:VEVENT
BEGIN:VEVENT
DTSTART;TZID=America/New_York:20250715T153000
DTEND;TZID=America/New_York:20250715T153000
DTSTAMP:20260420T102844
CREATED:20240904T192106Z
LAST-MODIFIED:20250715T155652Z
UID:9137-1752593400-1752593400@midtownid.com
SUMMARY:BOS Meeting July 15\, 2025
DESCRIPTION:Agenda PDF \nUpdated Agenda PDF | RTF
URL:http://midtownid.com/event/bos-meeting-july-15-2025
LOCATION:6900 Tavistock Lakes Blvd\, Ste 200\, Orlando\, FL 32827
END:VEVENT
BEGIN:VEVENT
DTSTART;TZID=America/New_York:20250710T153000
DTEND;TZID=America/New_York:20250710T153000
DTSTAMP:20260420T102844
CREATED:20240904T194558Z
LAST-MODIFIED:20250701T173910Z
UID:9159-1752161400-1752161400@midtownid.com
SUMMARY:Construction Committee Meeting July 10\, 2025
DESCRIPTION:Agenda PDF | RTF
URL:http://midtownid.com/event/construction-committee-meeting-july-10-2025
LOCATION:6900 Tavistock Lakes Blvd\, Ste 200\, Orlando\, FL 32827
END:VEVENT
BEGIN:VEVENT
DTSTART;TZID=America/New_York:20250617T153000
DTEND;TZID=America/New_York:20250617T153000
DTSTAMP:20260420T102844
CREATED:20240904T192015Z
LAST-MODIFIED:20250617T152124Z
UID:9135-1750174200-1750174200@midtownid.com
SUMMARY:BOS Meeting June 17\, 2025
DESCRIPTION:Agenda PDF | RTF \nUpdated PDF | RTF \nFinal PDF
URL:http://midtownid.com/event/bos-meeting-june-17-2025
LOCATION:6900 Tavistock Lakes Blvd\, Ste 200\, Orlando\, FL 32827
END:VEVENT
BEGIN:VEVENT
DTSTART;TZID=America/New_York:20250612T153000
DTEND;TZID=America/New_York:20250612T153000
DTSTAMP:20260420T102844
CREATED:20240904T194335Z
LAST-MODIFIED:20250609T200816Z
UID:9157-1749742200-1749742200@midtownid.com
SUMMARY:Construction Committee Meeting June 12\, 2025 - Meeting Cancelled
DESCRIPTION:Meeting Cancelled
URL:http://midtownid.com/event/construction-committee-meeting-june-12-2025
LOCATION:6900 Tavistock Lakes Blvd\, Ste 200\, Orlando\, FL 32827
END:VEVENT
BEGIN:VEVENT
DTSTART;TZID=America/New_York:20250520T153000
DTEND;TZID=America/New_York:20250520T153000
DTSTAMP:20260420T102844
CREATED:20240904T191925Z
LAST-MODIFIED:20250519T222444Z
UID:9133-1747755000-1747755000@midtownid.com
SUMMARY:BOS Meeting May 20\, 2025
DESCRIPTION:Agenda PDF | RTF \nUpdated PDF | RTF
URL:http://midtownid.com/event/bos-meeting-may-20-2025
LOCATION:6900 Tavistock Lakes Blvd\, Ste 200\, Orlando\, FL 32827
END:VEVENT
BEGIN:VEVENT
DTSTART;TZID=America/New_York:20250508T153000
DTEND;TZID=America/New_York:20250508T153000
DTSTAMP:20260420T102844
CREATED:20240904T193943Z
LAST-MODIFIED:20250429T135402Z
UID:9155-1746718200-1746718200@midtownid.com
SUMMARY:Construction Committee Meeting May 8\, 2025
DESCRIPTION:Agenda PDF | RTF
URL:http://midtownid.com/event/construction-committee-meeting-may-8-2025
LOCATION:6900 Tavistock Lakes Blvd\, Ste 200\, Orlando\, FL 32827
END:VEVENT
BEGIN:VEVENT
DTSTART;TZID=America/New_York:20250415T153000
DTEND;TZID=America/New_York:20250415T153000
DTSTAMP:20260420T102844
CREATED:20240904T191754Z
LAST-MODIFIED:20250415T214650Z
UID:9131-1744731000-1744731000@midtownid.com
SUMMARY:BOS Meeting April 15\, 2025
DESCRIPTION:Agenda PDF | RTF \nFinal Agenda PDF | RTF
URL:http://midtownid.com/event/bos-meeting-april-15-2025
LOCATION:6900 Tavistock Lakes Blvd\, Ste 200\, Orlando\, FL 32827
END:VEVENT
BEGIN:VEVENT
DTSTART;TZID=America/New_York:20250410T153000
DTEND;TZID=America/New_York:20250410T153000
DTSTAMP:20260420T102844
CREATED:20240904T193910Z
LAST-MODIFIED:20250328T191220Z
UID:9153-1744299000-1744299000@midtownid.com
SUMMARY:Construction Committee Meeting April 10\, 2025
DESCRIPTION:Agenda PDF | RTF
URL:http://midtownid.com/event/construction-committee-meeting-april-10-2025
LOCATION:6900 Tavistock Lakes Blvd\, Ste 200\, Orlando\, FL 32827
END:VEVENT
BEGIN:VEVENT
DTSTART;TZID=America/New_York:20250313T153000
DTEND;TZID=America/New_York:20250313T153000
DTSTAMP:20260420T102844
CREATED:20240904T193825Z
LAST-MODIFIED:20250225T162235Z
UID:9151-1741879800-1741879800@midtownid.com
SUMMARY:Construction Committee Meeting March 13\, 2025 - Meeting Cancelled
DESCRIPTION:
URL:http://midtownid.com/event/construction-committee-meeting-march-13-2025
LOCATION:6900 Tavistock Lakes Blvd\, Ste 200\, Orlando\, FL 32827
END:VEVENT
BEGIN:VEVENT
DTSTART;TZID=America/New_York:20250311T153000
DTEND;TZID=America/New_York:20250311T153000
DTSTAMP:20260420T102844
CREATED:20240904T191621Z
LAST-MODIFIED:20250304T214333Z
UID:9129-1741707000-1741707000@midtownid.com
SUMMARY:BOS Meeting March 11\, 2025 - Meeting Cancelled
DESCRIPTION:
URL:http://midtownid.com/event/bos-meeting-march-11-2025
LOCATION:6900 Tavistock Lakes Blvd\, Ste 200\, Orlando\, FL 32827
END:VEVENT
BEGIN:VEVENT
DTSTART;TZID=America/New_York:20250218T153000
DTEND;TZID=America/New_York:20250218T153000
DTSTAMP:20260420T102844
CREATED:20240904T191534Z
LAST-MODIFIED:20250218T140109Z
UID:9127-1739892600-1739892600@midtownid.com
SUMMARY:BOS Meeting February 18\, 2025
DESCRIPTION:Agenda: PDF | RTF \nUpdated Agenda: PDF | RTF
URL:http://midtownid.com/event/bos-meeting-february-18-2025
LOCATION:6900 Tavistock Lakes Blvd\, Ste 200\, Orlando\, FL 32827
END:VEVENT
BEGIN:VEVENT
DTSTART;TZID=America/New_York:20250213T153000
DTEND;TZID=America/New_York:20250213T153000
DTSTAMP:20260420T102844
CREATED:20240904T193543Z
LAST-MODIFIED:20250206T184113Z
UID:9149-1739460600-1739460600@midtownid.com
SUMMARY:Construction Committee Meeting February 13\, 2025
DESCRIPTION:Agenda: PDF | RTF
URL:http://midtownid.com/event/construction-committee-meeting-february-13-2025
LOCATION:6900 Tavistock Lakes Blvd\, Ste 200\, Orlando\, FL 32827
END:VEVENT
BEGIN:VEVENT
DTSTART;TZID=America/New_York:20250121T153000
DTEND;TZID=America/New_York:20250121T153000
DTSTAMP:20260420T102844
CREATED:20240904T191419Z
LAST-MODIFIED:20250121T183114Z
UID:9125-1737473400-1737473400@midtownid.com
SUMMARY:BOS Meeting January 21\, 2025
DESCRIPTION:Agenda: PDF | RTF \nUpdated Agenda: PDF | RTF
URL:http://midtownid.com/event/bos-meeting-january-21-2025
LOCATION:6900 Tavistock Lakes Blvd\, Ste 200\, Orlando\, FL 32827
END:VEVENT
BEGIN:VEVENT
DTSTART;TZID=America/New_York:20250109T080000
DTEND;TZID=America/New_York:20250109T170000
DTSTAMP:20260420T102844
CREATED:20241231T195953Z
LAST-MODIFIED:20241231T213447Z
UID:9267-1736409600-1736442000@midtownid.com
SUMMARY:Construction Committee Meeting
DESCRIPTION:Agenda PDF | RTF
URL:http://midtownid.com/event/construction-committee-meeting-2
LOCATION:6900 Tavistock Lakes Blvd\, Ste 200\, Orlando\, FL 32827
END:VEVENT
BEGIN:VEVENT
DTSTART;TZID=America/New_York:20241217T153000
DTEND;TZID=America/New_York:20241217T153000
DTSTAMP:20260420T102844
CREATED:20240904T191329Z
LAST-MODIFIED:20241204T172042Z
UID:9123-1734449400-1734449400@midtownid.com
SUMMARY:BOS Meeting December 17\, 2024- Meeting Cancelled
DESCRIPTION:
URL:http://midtownid.com/event/bos-meeting-december-17-2024
LOCATION:6900 Tavistock Lakes Blvd\, Ste 200\, Orlando\, FL 32827
END:VEVENT
BEGIN:VEVENT
DTSTART;TZID=America/New_York:20241212T080000
DTEND;TZID=America/New_York:20241212T170000
DTSTAMP:20260420T102844
CREATED:20240904T193453Z
LAST-MODIFIED:20241205T135045Z
UID:9147-1733990400-1734022800@midtownid.com
SUMMARY:Construction Committee Meeting December 12\, 2024- Meeting Cancelled
DESCRIPTION:
URL:http://midtownid.com/event/construction-committee-meeting-december-12-2024
LOCATION:6900 Tavistock Lakes Blvd\, Ste 200\, Orlando\, FL 32827
END:VEVENT
BEGIN:VEVENT
DTSTART;TZID=America/New_York:20241119T153000
DTEND;TZID=America/New_York:20241119T153000
DTSTAMP:20260420T102844
CREATED:20240904T191214Z
LAST-MODIFIED:20241118T202515Z
UID:9121-1732030200-1732030200@midtownid.com
SUMMARY:BOS Meeting November 19\, 2024
DESCRIPTION:Agenda PDF | RTF \nUpdated Agenda PDF \n 
URL:http://midtownid.com/event/bos-meeting-november-19-2024
LOCATION:6900 Tavistock Lakes Blvd\, Ste 200\, Orlando\, FL 32827
END:VEVENT
BEGIN:VEVENT
DTSTART;TZID=America/New_York:20241114T153000
DTEND;TZID=America/New_York:20241114T153000
DTSTAMP:20260420T102844
CREATED:20240904T193420Z
LAST-MODIFIED:20241108T185829Z
UID:9145-1731598200-1731598200@midtownid.com
SUMMARY:Construction Committee Meeting November 14\, 2024- Meeting Cancelled
DESCRIPTION:
URL:http://midtownid.com/event/construction-committee-meeting-november-14-2024
LOCATION:6900 Tavistock Lakes Blvd\, Ste 200\, Orlando\, FL 32827
END:VEVENT
BEGIN:VEVENT
DTSTART;TZID=America/New_York:20241105T101500
DTEND;TZID=America/New_York:20241105T101500
DTSTAMP:20260420T102844
CREATED:20241029T174655Z
LAST-MODIFIED:20241029T214800Z
UID:9228-1730801700-1730801700@midtownid.com
SUMMARY:Landowner's Election Meeting November 5\, 2024
DESCRIPTION:Agenda PDF | RTF
URL:http://midtownid.com/event/landowners-election-meeting-november-5-2024
LOCATION:6900 Tavistock Lakes Blvd\, Ste 200\, Orlando\, FL 32827
END:VEVENT
BEGIN:VEVENT
DTSTART;TZID=America/New_York:20241015T153000
DTEND;TZID=America/New_York:20241015T153000
DTSTAMP:20260420T102844
CREATED:20240904T190848Z
LAST-MODIFIED:20241015T184017Z
UID:9119-1729006200-1729006200@midtownid.com
SUMMARY:BOS Meeting October 15\, 2024
DESCRIPTION:Agenda PDF | RTF \nUpdated  PDF | RTF \nFinal PDF | RTF \n  \n 
URL:http://midtownid.com/event/bos-meeting-october-15-2024
LOCATION:6900 Tavistock Lakes Blvd\, Ste 200\, Orlando\, FL 32827
END:VEVENT
BEGIN:VEVENT
DTSTART;TZID=America/New_York:20241010T153000
DTEND;TZID=America/New_York:20241010T153000
DTSTAMP:20260420T102844
CREATED:20240904T193330Z
LAST-MODIFIED:20241007T132714Z
UID:9143-1728574200-1728574200@midtownid.com
SUMMARY:Construction Committee Meeting October 10\, 2024-Meeting Cancelled
DESCRIPTION:
URL:http://midtownid.com/event/construction-committee-meeting-october-10-2024
LOCATION:6900 Tavistock Lakes Blvd\, Ste 200\, Orlando\, FL 32827
END:VEVENT
BEGIN:VEVENT
DTSTART;TZID=America/New_York:20240917T153000
DTEND;TZID=America/New_York:20240917T153000
DTSTAMP:20260420T102844
CREATED:20230720T162947Z
LAST-MODIFIED:20240904T195156Z
UID:8764-1726587000-1726587000@midtownid.com
SUMMARY:BOS September 17\, 2024-Meeting Cancelled
DESCRIPTION:
URL:http://midtownid.com/event/bos-september-17-2024
LOCATION:6900 Tavistock Lakes Blvd\, Ste 200\, Orlando\, FL 32827
END:VEVENT
BEGIN:VEVENT
DTSTART;TZID=America/New_York:20240912T153000
DTEND;TZID=America/New_York:20240912T153000
DTSTAMP:20260420T102844
CREATED:20230720T164536Z
LAST-MODIFIED:20240904T201255Z
UID:8789-1726155000-1726155000@midtownid.com
SUMMARY:Construction Committee September 12\, 2024-Meeting Cancelled
DESCRIPTION:
URL:http://midtownid.com/event/construction-committee-september-12-2024
LOCATION:6900 Tavistock Lakes Blvd\, Ste 200\, Orlando\, FL 32827
END:VEVENT
BEGIN:VEVENT
DTSTART;TZID=America/New_York:20240820T153000
DTEND;TZID=America/New_York:20240820T153000
DTSTAMP:20260420T102844
CREATED:20230720T162851Z
LAST-MODIFIED:20240820T190956Z
UID:8762-1724167800-1724167800@midtownid.com
SUMMARY:BOS Meeting August 20\, 2024
DESCRIPTION:Agenda PDF | RTF \nUpdated Agenda PDF | RTF \nFinal Agenda PDF | RTF
URL:http://midtownid.com/event/bos-meeting-august-20-2024
LOCATION:6900 Tavistock Lakes Blvd\, Ste 200\, Orlando\, FL 32827
END:VEVENT
BEGIN:VEVENT
DTSTART;TZID=America/New_York:20240808T153000
DTEND;TZID=America/New_York:20240808T153000
DTSTAMP:20260420T102844
CREATED:20230720T164446Z
LAST-MODIFIED:20240806T184455Z
UID:8787-1723131000-1723131000@midtownid.com
SUMMARY:Construction Committee August 8\, 2024
DESCRIPTION:Agenda PDF | RTF \nUpdate PDF | RTF
URL:http://midtownid.com/event/construction-committee-august-8-2024
LOCATION:6900 Tavistock Lakes Blvd\, Ste 200\, Orlando\, FL 32827
END:VEVENT
END:VCALENDAR