BEGIN:VCALENDAR
VERSION:2.0
PRODID:-//Midtown Improvement District - ECPv6.6.4.2//NONSGML v1.0//EN
CALSCALE:GREGORIAN
METHOD:PUBLISH
X-ORIGINAL-URL:http://midtownid.com
X-WR-CALDESC:Events for Midtown Improvement District
REFRESH-INTERVAL;VALUE=DURATION:PT1H
X-Robots-Tag:noindex
X-PUBLISHED-TTL:PT1H
BEGIN:VTIMEZONE
TZID:America/New_York
BEGIN:DAYLIGHT
TZOFFSETFROM:-0500
TZOFFSETTO:-0400
TZNAME:EDT
DTSTART:20230312T070000
END:DAYLIGHT
BEGIN:STANDARD
TZOFFSETFROM:-0400
TZOFFSETTO:-0500
TZNAME:EST
DTSTART:20231105T060000
END:STANDARD
END:VTIMEZONE
BEGIN:VEVENT
DTSTART;TZID=America/New_York:20231109T153000
DTEND;TZID=America/New_York:20231109T153000
DTSTAMP:20260422T102637
CREATED:20230720T163233Z
LAST-MODIFIED:20231109T185938Z
UID:8768-1699543800-1699543800@midtownid.com
SUMMARY:Construction Committee November 9\, 2023
DESCRIPTION:Meeting Cancelled
URL:http://midtownid.com/event/construction-committee-november-9-2023
LOCATION:6900 Tavistock Lakes Blvd\, Ste 200\, Orlando\, FL 32827
END:VEVENT
BEGIN:VEVENT
DTSTART;TZID=America/New_York:20231017T153000
DTEND;TZID=America/New_York:20231017T153000
DTSTAMP:20260422T102637
CREATED:20230720T160822Z
LAST-MODIFIED:20231017T125913Z
UID:8742-1697556600-1697556600@midtownid.com
SUMMARY:BOS Meeting October 17\, 2023
DESCRIPTION:Agenda PDF | RTF \nUpdated Agenda PDF | RTF \nUpdated Agenda #2 PDF | RTF
URL:http://midtownid.com/event/bos-meeting-october-17-2023
LOCATION:6900 Tavistock Lakes Blvd\, Ste 200\, Orlando\, FL 32827
END:VEVENT
BEGIN:VEVENT
DTSTART;TZID=America/New_York:20231012T153000
DTEND;TZID=America/New_York:20231012T153000
DTSTAMP:20260422T102637
CREATED:20230720T163124Z
LAST-MODIFIED:20231004T145427Z
UID:8766-1697124600-1697124600@midtownid.com
SUMMARY:Construction Committee October 12\, 2023 Meeting Cancelled
DESCRIPTION:
URL:http://midtownid.com/event/construction-committee-october-12-2023
LOCATION:6900 Tavistock Lakes Blvd\, Ste 200\, Orlando\, FL 32827
END:VEVENT
BEGIN:VEVENT
DTSTART;TZID=America/New_York:20230921T153000
DTEND;TZID=America/New_York:20230921T153000
DTSTAMP:20260422T102637
CREATED:20220908T142412Z
LAST-MODIFIED:20230720T151526Z
UID:8244-1695310200-1695310200@midtownid.com
SUMMARY:Construction Committee Meeting - September 21\, 2023
DESCRIPTION:Meeting Cancelled
URL:http://midtownid.com/event/construction-committee-meeting-september-21-2023
LOCATION:6900 Tavistock Lakes Blvd\, Ste 200\, Orlando\, FL 32827
END:VEVENT
BEGIN:VEVENT
DTSTART;TZID=America/New_York:20230919T153000
DTEND;TZID=America/New_York:20230919T153000
DTSTAMP:20260422T102637
CREATED:20220908T140555Z
LAST-MODIFIED:20230908T125650Z
UID:8190-1695137400-1695137400@midtownid.com
SUMMARY:September Meeting-Meeting Cancelled
DESCRIPTION:
URL:http://midtownid.com/event/september-meeting-2
LOCATION:Courtyard Orlando Lake Nona\, 6955 Lake Nona Blvd.\, Orlando\, Florida\, 32827
END:VEVENT
BEGIN:VEVENT
DTSTART;TZID=America/New_York:20230907T153000
DTEND;TZID=America/New_York:20230907T153000
DTSTAMP:20260422T102637
CREATED:20220908T142349Z
LAST-MODIFIED:20230831T183644Z
UID:8242-1694100600-1694100600@midtownid.com
SUMMARY:Construction Committee Meeting - September 7\, 2023
DESCRIPTION:Agenda PDF | RTF
URL:http://midtownid.com/event/construction-committee-meeting-september-7-2023
END:VEVENT
BEGIN:VEVENT
DTSTART;TZID=America/New_York:20230824T153000
DTEND;TZID=America/New_York:20230824T153000
DTSTAMP:20260422T102637
CREATED:20220908T142331Z
LAST-MODIFIED:20230720T151309Z
UID:8240-1692891000-1692891000@midtownid.com
SUMMARY:Construction Committee Meeting - August 24\, 2023
DESCRIPTION:Meeting Cancelled
URL:http://midtownid.com/event/construction-committee-meeting-august-24-2023
LOCATION:6900 Tavistock Lakes Blvd\, Ste 200\, Orlando\, FL 32827
END:VEVENT
BEGIN:VEVENT
DTSTART;TZID=America/New_York:20230815T153000
DTEND;TZID=America/New_York:20230815T153000
DTSTAMP:20260422T102637
CREATED:20220908T140534Z
LAST-MODIFIED:20230815T202158Z
UID:8188-1692113400-1692113400@midtownid.com
SUMMARY:August Meeting
DESCRIPTION:Agenda PDF | RTF \nUpdated PDF | RTF \nFinal PDF | RTF \n 
URL:http://midtownid.com/event/august-meeting-2
LOCATION:Courtyard Orlando Lake Nona\, 6955 Lake Nona Blvd.\, Orlando\, Florida\, 32827
END:VEVENT
BEGIN:VEVENT
DTSTART;TZID=America/New_York:20230810T153000
DTEND;TZID=America/New_York:20230810T153000
DTSTAMP:20260422T102637
CREATED:20220908T142127Z
LAST-MODIFIED:20230803T213218Z
UID:8237-1691681400-1691681400@midtownid.com
SUMMARY:Construction Committee Meeting - August 10\, 2023
DESCRIPTION:Agenda PDF | RTF
URL:http://midtownid.com/event/construction-committee-meeting-august-10-2023
END:VEVENT
BEGIN:VEVENT
DTSTART;TZID=America/New_York:20230727T153000
DTEND;TZID=America/New_York:20230727T153000
DTSTAMP:20260422T102637
CREATED:20220908T142043Z
LAST-MODIFIED:20230602T184431Z
UID:8235-1690471800-1690471800@midtownid.com
SUMMARY:Construction Committee Meeting - July 27\, 2023
DESCRIPTION:Meeting Cancelled
URL:http://midtownid.com/event/construction-committee-meeting-july-27-2023
END:VEVENT
BEGIN:VEVENT
DTSTART;TZID=America/New_York:20230718T153000
DTEND;TZID=America/New_York:20230718T153000
DTSTAMP:20260422T102637
CREATED:20220908T140513Z
LAST-MODIFIED:20230718T124408Z
UID:8186-1689694200-1689694200@midtownid.com
SUMMARY:July Meeting
DESCRIPTION:Agenda PDF | RTF \nUpdated Agenda PDF | RTF \nFinal Agenda PDF
URL:http://midtownid.com/event/july-meeting-2
LOCATION:Midtown ID\, Courtyard Orlando Lake Nona\, 6955 Lake Nona Blvd.\, Orlando\, Florida 32827
END:VEVENT
BEGIN:VEVENT
DTSTART;TZID=America/New_York:20230713T153000
DTEND;TZID=America/New_York:20230713T153000
DTSTAMP:20260422T102637
CREATED:20220908T142011Z
LAST-MODIFIED:20230706T144002Z
UID:8233-1689262200-1689262200@midtownid.com
SUMMARY:Construction Committee Meeting - July 13\, 2023
DESCRIPTION:PDF | RTF
URL:http://midtownid.com/event/construction-committee-meeting-july-13-2023
END:VEVENT
BEGIN:VEVENT
DTSTART;TZID=America/New_York:20230629T153000
DTEND;TZID=America/New_York:20230629T153000
DTSTAMP:20260422T102637
CREATED:20220908T141928Z
LAST-MODIFIED:20230602T184332Z
UID:8231-1688052600-1688052600@midtownid.com
SUMMARY:Construction Committee Meeting - June 29\, 2023
DESCRIPTION:Meeting Cancelled
URL:http://midtownid.com/event/construction-committee-meeting-june-29-2023
END:VEVENT
BEGIN:VEVENT
DTSTART;TZID=America/New_York:20230620T153000
DTEND;TZID=America/New_York:20230620T153000
DTSTAMP:20260422T102637
CREATED:20220908T140454Z
LAST-MODIFIED:20230619T133141Z
UID:8184-1687275000-1687275000@midtownid.com
SUMMARY:June Meeting
DESCRIPTION:Agenda PDF | RTF \nUpdated PDF | RTF
URL:http://midtownid.com/event/june-meeting-2
LOCATION:Midtown ID\, Courtyard Orlando Lake Nona\, 6955 Lake Nona Blvd.\, Orlando\, Florida 32827
END:VEVENT
BEGIN:VEVENT
DTSTART;TZID=America/New_York:20230615T153000
DTEND;TZID=America/New_York:20230615T153000
DTSTAMP:20260422T102637
CREATED:20220908T141906Z
LAST-MODIFIED:20230608T145029Z
UID:8229-1686843000-1686843000@midtownid.com
SUMMARY:Construction Committee Meeting - June 15\, 2023
DESCRIPTION:Agenda PDF | RTF
URL:http://midtownid.com/event/construction-committee-meeting-june-15-2023
END:VEVENT
BEGIN:VEVENT
DTSTART;TZID=America/New_York:20230601T153000
DTEND;TZID=America/New_York:20230601T153000
DTSTAMP:20260422T102637
CREATED:20220908T141850Z
LAST-MODIFIED:20230602T184152Z
UID:8227-1685633400-1685633400@midtownid.com
SUMMARY:Construction Committee Meeting - June 1\, 2023
DESCRIPTION:Meeting Cancelled
URL:http://midtownid.com/event/construction-committee-meeting-june-1-2023
END:VEVENT
BEGIN:VEVENT
DTSTART;TZID=America/New_York:20230518T153000
DTEND;TZID=America/New_York:20230518T153000
DTSTAMP:20260422T102637
CREATED:20220908T141828Z
LAST-MODIFIED:20230602T184134Z
UID:8225-1684423800-1684423800@midtownid.com
SUMMARY:Construction Committee Meeting - May 18\, 2023
DESCRIPTION:Meeting Cancelled
URL:http://midtownid.com/event/construction-committee-meeting-may-18-2023
END:VEVENT
BEGIN:VEVENT
DTSTART;TZID=America/New_York:20230509T153000
DTEND;TZID=America/New_York:20230509T153000
DTSTAMP:20260422T102637
CREATED:20220908T140433Z
LAST-MODIFIED:20230508T214038Z
UID:8182-1683646200-1683646200@midtownid.com
SUMMARY:May Meeting
DESCRIPTION:Agenda PDF | RTF \nUpdated PDF | RTF \nUpdate 2 PDF | RTF
URL:http://midtownid.com/event/may-meeting-2
LOCATION:Midtown ID\, Courtyard Orlando Lake Nona\, 6955 Lake Nona Blvd.\, Orlando\, Florida 32827
END:VEVENT
BEGIN:VEVENT
DTSTART;TZID=America/New_York:20230504T153000
DTEND;TZID=America/New_York:20230504T153000
DTSTAMP:20260422T102637
CREATED:20220908T141811Z
LAST-MODIFIED:20230503T135845Z
UID:8223-1683214200-1683214200@midtownid.com
SUMMARY:Construction Committee Meeting - May 4\, 2023
DESCRIPTION:Agenda PDF | RTF \nUpdated PDF | RTF
URL:http://midtownid.com/event/construction-committee-meeting-may-4-2023
LOCATION:6900 Tavistock Lakes Blvd\, Ste 200\, Orlando\, FL 32827
END:VEVENT
BEGIN:VEVENT
DTSTART;TZID=America/New_York:20230420T153000
DTEND;TZID=America/New_York:20230420T153000
DTSTAMP:20260422T102637
CREATED:20220908T141753Z
LAST-MODIFIED:20230420T183900Z
UID:8221-1682004600-1682004600@midtownid.com
SUMMARY:Construction Committee Meeting - April 20\, 2023
DESCRIPTION:Agenda PDF | RTF \nUpdated Agenda PDF | RTF
URL:http://midtownid.com/event/construction-committee-meeting-april-20-2023
END:VEVENT
BEGIN:VEVENT
DTSTART;TZID=America/New_York:20230418T153000
DTEND;TZID=America/New_York:20230418T153000
DTSTAMP:20260422T102637
CREATED:20220908T140411Z
LAST-MODIFIED:20230417T222422Z
UID:8180-1681831800-1681831800@midtownid.com
SUMMARY:April Meeting
DESCRIPTION:Agenda PDF | RTF \nAgenda Update 1 PDF | RTF \nFinal PDF | RTF
URL:http://midtownid.com/event/april-meeting-2
LOCATION:Midtown ID\, Courtyard Orlando Lake Nona\, 6955 Lake Nona Blvd.\, Orlando\, Florida 32827
END:VEVENT
BEGIN:VEVENT
DTSTART;TZID=America/New_York:20230406T153000
DTEND;TZID=America/New_York:20230406T153000
DTSTAMP:20260422T102637
CREATED:20220908T141734Z
LAST-MODIFIED:20230405T194955Z
UID:8219-1680795000-1680795000@midtownid.com
SUMMARY:Cancelled - Construction Committee Meeting - April 6\, 2023
DESCRIPTION:Meeting Cancelled
URL:http://midtownid.com/event/construction-committee-meeting-april-6-2023
END:VEVENT
BEGIN:VEVENT
DTSTART;TZID=America/New_York:20230323T153000
DTEND;TZID=America/New_York:20230323T153000
DTSTAMP:20260422T102637
CREATED:20220908T141715Z
LAST-MODIFIED:20230322T212026Z
UID:8217-1679585400-1679585400@midtownid.com
SUMMARY:Construction Committee Meeting - March 23\, 2023
DESCRIPTION:Agenda PDF | RTF \nUpdated Agenda PDF | RTF
URL:http://midtownid.com/event/construction-committee-meeting-march-23-2023
END:VEVENT
BEGIN:VEVENT
DTSTART;TZID=America/New_York:20230321T153000
DTEND;TZID=America/New_York:20230321T153000
DTSTAMP:20260422T102637
CREATED:20220908T140306Z
LAST-MODIFIED:20230314T214425Z
UID:8177-1679412600-1679412600@midtownid.com
SUMMARY:March Meeting
DESCRIPTION:Agenda PDF | RTF
URL:http://midtownid.com/event/march
LOCATION:Midtown ID\, Courtyard Orlando Lake Nona\, 6955 Lake Nona Blvd.\, Orlando\, Florida 32827
END:VEVENT
BEGIN:VEVENT
DTSTART;TZID=America/New_York:20230309T153000
DTEND;TZID=America/New_York:20230309T153000
DTSTAMP:20260422T102637
CREATED:20220908T141551Z
LAST-MODIFIED:20230308T142242Z
UID:8214-1678375800-1678375800@midtownid.com
SUMMARY:Cancelled - Construction Committee Meeting - March 9\, 2023
DESCRIPTION:Meeting Cancelled
URL:http://midtownid.com/event/construction-committee-meeting-march-9-2023
END:VEVENT
BEGIN:VEVENT
DTSTART;TZID=America/New_York:20230223T153000
DTEND;TZID=America/New_York:20230223T153000
DTSTAMP:20260422T102637
CREATED:20220908T141506Z
LAST-MODIFIED:20230222T193525Z
UID:8212-1677166200-1677166200@midtownid.com
SUMMARY:Cancelled - Construction Committee Meeting - February 23\, 2023
DESCRIPTION:Meeting Cancelled \n 
URL:http://midtownid.com/event/construction-committee-meeting-february-23-2023
END:VEVENT
BEGIN:VEVENT
DTSTART;TZID=America/New_York:20230221T153000
DTEND;TZID=America/New_York:20230221T153000
DTSTAMP:20260422T102637
CREATED:20220908T140242Z
LAST-MODIFIED:20230214T223032Z
UID:8175-1676993400-1676993400@midtownid.com
SUMMARY:February Meeting
DESCRIPTION:Agenda PDF | RTF
URL:http://midtownid.com/event/february-meeting-2
LOCATION:Midtown ID\, Courtyard Orlando Lake Nona\, 6955 Lake Nona Blvd.\, Orlando\, Florida 32827
END:VEVENT
BEGIN:VEVENT
DTSTART;TZID=America/New_York:20230209T153000
DTEND;TZID=America/New_York:20230209T153000
DTSTAMP:20260422T102637
CREATED:20220908T141440Z
LAST-MODIFIED:20230208T155653Z
UID:8210-1675956600-1675956600@midtownid.com
SUMMARY:Cancelled - Construction Committee Meeting - February 9\, 2023
DESCRIPTION:Meeting Cancelled
URL:http://midtownid.com/event/construction-committee-meeting-february-9-2023
END:VEVENT
BEGIN:VEVENT
DTSTART;TZID=America/New_York:20230126T153000
DTEND;TZID=America/New_York:20230126T153000
DTSTAMP:20260422T102637
CREATED:20220908T141353Z
LAST-MODIFIED:20230126T143854Z
UID:8208-1674747000-1674747000@midtownid.com
SUMMARY:Construction Committee Meeting - January 26\, 2023 - Cancelled
DESCRIPTION:Meeting Cancelled
URL:http://midtownid.com/event/construction-committee-meeting-january-26-2023
END:VEVENT
BEGIN:VEVENT
DTSTART;TZID=America/New_York:20230117T153000
DTEND;TZID=America/New_York:20230117T153000
DTSTAMP:20260422T102637
CREATED:20220908T140214Z
LAST-MODIFIED:20230113T185311Z
UID:8173-1673969400-1673969400@midtownid.com
SUMMARY:January Meeting - Cancelled
DESCRIPTION:Agenda Meeting Cancelled \n 
URL:http://midtownid.com/event/january-meeting-2
LOCATION:Midtown ID\, Courtyard Orlando Lake Nona\, 6955 Lake Nona Blvd.\, Orlando\, Florida 32827
END:VEVENT
END:VCALENDAR