BEGIN:VCALENDAR
VERSION:2.0
PRODID:-//Midtown Improvement District - ECPv6.6.4.2//NONSGML v1.0//EN
CALSCALE:GREGORIAN
METHOD:PUBLISH
X-ORIGINAL-URL:http://midtownid.com
X-WR-CALDESC:Events for Midtown Improvement District
REFRESH-INTERVAL;VALUE=DURATION:PT1H
X-Robots-Tag:noindex
X-PUBLISHED-TTL:PT1H
BEGIN:VTIMEZONE
TZID:America/New_York
BEGIN:DAYLIGHT
TZOFFSETFROM:-0500
TZOFFSETTO:-0400
TZNAME:EDT
DTSTART:20220313T070000
END:DAYLIGHT
BEGIN:STANDARD
TZOFFSETFROM:-0400
TZOFFSETTO:-0500
TZNAME:EST
DTSTART:20221106T060000
END:STANDARD
TZID:UTC
BEGIN:STANDARD
TZOFFSETFROM:+0000
TZOFFSETTO:+0000
TZNAME:UTC
DTSTART:20220101T000000
END:STANDARD
END:VTIMEZONE
BEGIN:VEVENT
DTSTART;TZID=America/New_York:20221115T153000
DTEND;TZID=America/New_York:20221115T153000
DTSTAMP:20260422T152333
CREATED:20220908T135948Z
LAST-MODIFIED:20221115T160819Z
UID:8169-1668526200-1668526200@midtownid.com
SUMMARY:November Meeting - Cancelled
DESCRIPTION:Meeting Cancelled
URL:http://midtownid.com/event/november-meeting-2
LOCATION:Midtown ID\, Courtyard Orlando Lake Nona\, 6955 Lake Nona Blvd.\, Orlando\, Florida 32827
END:VEVENT
BEGIN:VEVENT
DTSTART;TZID=America/New_York:20221103T153000
DTEND;TZID=America/New_York:20221103T153000
DTSTAMP:20260422T152333
CREATED:20220908T141047Z
LAST-MODIFIED:20221110T142234Z
UID:8196-1667489400-1667489400@midtownid.com
SUMMARY:Construction Committee Meeting - November 3\, 2022 - Meeting Cancelled
DESCRIPTION:Meeting Cancelled
URL:http://midtownid.com/event/construction-committee-meeting-november-3-2022
END:VEVENT
BEGIN:VEVENT
DTSTART;TZID=America/New_York:20221020T153000
DTEND;TZID=America/New_York:20221020T153000
DTSTAMP:20260422T152333
CREATED:20220908T141011Z
LAST-MODIFIED:20221020T181050Z
UID:8194-1666279800-1666279800@midtownid.com
SUMMARY:Construction Committee Meeting - October 20\, 2022 - Cancelled
DESCRIPTION:
URL:http://midtownid.com/event/construction-committee-meeting-october-20-2022
END:VEVENT
BEGIN:VEVENT
DTSTART;TZID=America/New_York:20221018T153000
DTEND;TZID=America/New_York:20221018T153000
DTSTAMP:20260422T152333
CREATED:20220908T135751Z
LAST-MODIFIED:20221014T151959Z
UID:8167-1666107000-1666107000@midtownid.com
SUMMARY:October Meeting - Cancelled
DESCRIPTION:Meeting Cancelled
URL:http://midtownid.com/event/october-meeting-2
LOCATION:Midtown ID\, Courtyard Orlando Lake Nona\, 6955 Lake Nona Blvd.\, Orlando\, Florida 32827
END:VEVENT
BEGIN:VEVENT
DTSTART;TZID=America/New_York:20221006T153000
DTEND;TZID=America/New_York:20221006T153000
DTSTAMP:20260422T152333
CREATED:20220908T140717Z
LAST-MODIFIED:20221005T201944Z
UID:8192-1665070200-1665070200@midtownid.com
SUMMARY:Construction Committee Meeting - October 6\, 2022- Meeting Cancelled
DESCRIPTION:
URL:http://midtownid.com/event/construction-committee-meeting-october-6-2022
END:VEVENT
BEGIN:VEVENT
DTSTART;TZID=America/New_York:20220922T153000
DTEND;TZID=America/New_York:20220922T153000
DTSTAMP:20260422T152333
CREATED:20220426T175104Z
LAST-MODIFIED:20220921T184234Z
UID:7881-1663860600-1663860600@midtownid.com
SUMMARY:Construction Committee Meeting- September 22\, 2022 - Meeting Cancelled
DESCRIPTION:Meeting Cancelled
URL:http://midtownid.com/event/construction-committee-meeting-september-22-2022
END:VEVENT
BEGIN:VEVENT
DTSTART;TZID=UTC:20220920T153000
DTEND;TZID=UTC:20220920T153000
DTSTAMP:20260422T152333
CREATED:20220316T172302Z
LAST-MODIFIED:20220908T142625Z
UID:7739-1663687800-1663687800@midtownid.com
SUMMARY:September Meeting - Meeting Cancelled
DESCRIPTION:Meeting Cancelled
URL:http://midtownid.com/event/september-meeting
LOCATION:Midtown ID\, Courtyard Orlando Lake Nona\, 6955 Lake Nona Blvd.\, Orlando\, Florida 32827
END:VEVENT
BEGIN:VEVENT
DTSTART;TZID=America/New_York:20220908T153000
DTEND;TZID=America/New_York:20220908T153000
DTSTAMP:20260422T152333
CREATED:20220426T175004Z
LAST-MODIFIED:20220907T200700Z
UID:7879-1662651000-1662651000@midtownid.com
SUMMARY:Construction Committee Meeting- September 8\, 2022 - Meeting Cancelled
DESCRIPTION:Meeting Cancelled
URL:http://midtownid.com/event/construction-committee-meeting-september-8-2022
END:VEVENT
BEGIN:VEVENT
DTSTART;TZID=America/New_York:20220825T153000
DTEND;TZID=America/New_York:20220825T153000
DTSTAMP:20260422T152333
CREATED:20220426T174917Z
LAST-MODIFIED:20220824T180918Z
UID:7877-1661441400-1661441400@midtownid.com
SUMMARY:Construction Committee Meeting- Meeting Cancelled
DESCRIPTION:
URL:http://midtownid.com/event/construction-committee-meeting-august-25-2022
END:VEVENT
BEGIN:VEVENT
DTSTART;TZID=UTC:20220816T153000
DTEND;TZID=UTC:20220816T153000
DTSTAMP:20260422T152333
CREATED:20220316T172211Z
LAST-MODIFIED:20220815T172822Z
UID:7737-1660663800-1660663800@midtownid.com
SUMMARY:August Meeting
DESCRIPTION:Agenda PDF | RTF \nUpdated PDF | RTF \nFinal PDF \n  \n  \n 
URL:http://midtownid.com/event/august-meeting
LOCATION:Midtown ID\, Courtyard Orlando Lake Nona\, 6955 Lake Nona Blvd.\, Orlando\, Florida 32827
END:VEVENT
BEGIN:VEVENT
DTSTART;TZID=America/New_York:20220811T153000
DTEND;TZID=America/New_York:20220811T153000
DTSTAMP:20260422T152333
CREATED:20220426T174759Z
LAST-MODIFIED:20220810T194607Z
UID:7875-1660231800-1660231800@midtownid.com
SUMMARY:Construction Committee Meeting- August 11\, 2022 Meeting Cancelled
DESCRIPTION:Meeting Cancelled
URL:http://midtownid.com/event/construction-committee-meeting-august-11-2022
END:VEVENT
BEGIN:VEVENT
DTSTART;TZID=America/New_York:20220728T153000
DTEND;TZID=America/New_York:20220728T153000
DTSTAMP:20260422T152333
CREATED:20220426T173250Z
LAST-MODIFIED:20220727T185017Z
UID:7873-1659022200-1659022200@midtownid.com
SUMMARY:Construction Committee Meeting- July 28\, 2022 - Meeting Cancelled
DESCRIPTION:
URL:http://midtownid.com/event/construction-committee-meeting-july-28-2022
END:VEVENT
BEGIN:VEVENT
DTSTART;TZID=UTC:20220719T153000
DTEND;TZID=UTC:20220719T153000
DTSTAMP:20260422T152333
CREATED:20220316T172101Z
LAST-MODIFIED:20220715T223053Z
UID:7735-1658244600-1658244600@midtownid.com
SUMMARY:July Meeting
DESCRIPTION:07/19/22 PDF | RTF \n07/19/22 Updated PDF | RTF \n07/19/22 Updated #2 PDF | RTF
URL:http://midtownid.com/event/july-meeting
LOCATION:Midtown ID\, Courtyard Orlando Lake Nona\, 6955 Lake Nona Blvd.\, Orlando\, Florida 32827
END:VEVENT
BEGIN:VEVENT
DTSTART;TZID=America/New_York:20220714T153000
DTEND;TZID=America/New_York:20220714T153000
DTSTAMP:20260422T152333
CREATED:20220426T173153Z
LAST-MODIFIED:20220713T130827Z
UID:7871-1657812600-1657812600@midtownid.com
SUMMARY:Construction Committee Meeting- July 14\, 2022-Meeting Cancelled
DESCRIPTION:
URL:http://midtownid.com/event/construction-committee-meeting-july-14-2022
END:VEVENT
BEGIN:VEVENT
DTSTART;TZID=America/New_York:20220630T153000
DTEND;TZID=America/New_York:20220630T153000
DTSTAMP:20260422T152333
CREATED:20220426T173050Z
LAST-MODIFIED:20220623T210156Z
UID:7869-1656603000-1656603000@midtownid.com
SUMMARY:Construction Committee Meeting- June 30\, 2022
DESCRIPTION:6-30-22 PDF | RTF
URL:http://midtownid.com/event/construction-committee-meeting-june-30-2022
END:VEVENT
BEGIN:VEVENT
DTSTART;TZID=UTC:20220621T153000
DTEND;TZID=UTC:20220621T153000
DTSTAMP:20260422T152333
CREATED:20220316T172007Z
LAST-MODIFIED:20220621T210637Z
UID:7733-1655825400-1655825400@midtownid.com
SUMMARY:June Meeting
DESCRIPTION:PDF | RTF \n06/21/22 Updated PDF | RTF \n06/21/22 Updated #2 PDF | RTF
URL:http://midtownid.com/event/june-meeting
LOCATION:Midtown ID\, Courtyard Orlando Lake Nona\, 6955 Lake Nona Blvd.\, Orlando\, Florida 32827
END:VEVENT
BEGIN:VEVENT
DTSTART;TZID=America/New_York:20220616T153000
DTEND;TZID=America/New_York:20220616T153000
DTSTAMP:20260422T152333
CREATED:20220426T151824Z
LAST-MODIFIED:20220616T131429Z
UID:7867-1655393400-1655393400@midtownid.com
SUMMARY:Construction Committee Meeting- June 16\, 2022
DESCRIPTION:6-16-22 Meeting Cancelled
URL:http://midtownid.com/event/construction-committee-meeting-june-16-2022
END:VEVENT
BEGIN:VEVENT
DTSTART;TZID=America/New_York:20220602T153000
DTEND;TZID=America/New_York:20220602T153000
DTSTAMP:20260422T152333
CREATED:20220426T151729Z
LAST-MODIFIED:20220601T193656Z
UID:7865-1654183800-1654183800@midtownid.com
SUMMARY:Construction Committee Meeting- June 2\, 2022
DESCRIPTION:6-2-22 Meeting Cancelled
URL:http://midtownid.com/event/construction-committee-meeting-june-2-2022
END:VEVENT
BEGIN:VEVENT
DTSTART;TZID=America/New_York:20220519T153000
DTEND;TZID=America/New_York:20220519T153000
DTSTAMP:20260422T152333
CREATED:20220426T151055Z
LAST-MODIFIED:20220512T190040Z
UID:7863-1652974200-1652974200@midtownid.com
SUMMARY:Construction Committee Meeting- May 19\, 2022
DESCRIPTION:PDF | RTF\n\n 
URL:http://midtownid.com/event/construction-committee-meeting-may-19-2022
END:VEVENT
BEGIN:VEVENT
DTSTART;TZID=UTC:20220517T153000
DTEND;TZID=UTC:20220517T153000
DTSTAMP:20260422T152333
CREATED:20220316T171903Z
LAST-MODIFIED:20220517T161224Z
UID:7730-1652801400-1652801400@midtownid.com
SUMMARY:May Meeting
DESCRIPTION:05/17/22\n\nPDF | RTF\nUpdated PDF | RTF
URL:http://midtownid.com/event/may-meeting
LOCATION:Midtown ID\, Courtyard Orlando Lake Nona\, 6955 Lake Nona Blvd.\, Orlando\, Florida 32827
END:VEVENT
BEGIN:VEVENT
DTSTART;TZID=America/New_York:20220505T153000
DTEND;TZID=America/New_York:20220505T153000
DTSTAMP:20260422T152333
CREATED:20220426T151001Z
LAST-MODIFIED:20220628T154834Z
UID:7861-1651764600-1651764600@midtownid.com
SUMMARY:Construction Committee Meeting- Meeting May 5 Cancelled
DESCRIPTION:
URL:http://midtownid.com/event/construction-committee-meeting-may-5-2022
END:VEVENT
BEGIN:VEVENT
DTSTART;TZID=America/New_York:20220421T153000
DTEND;TZID=America/New_York:20220421T153000
DTSTAMP:20260422T152333
CREATED:20220426T150056Z
LAST-MODIFIED:20220628T154902Z
UID:7859-1650555000-1650555000@midtownid.com
SUMMARY:Construction Committee Meeting- Meeting April 21 Cancelled
DESCRIPTION:
URL:http://midtownid.com/event/construction-committee-meeting-meeting-cancelled-10
END:VEVENT
BEGIN:VEVENT
DTSTART;TZID=UTC:20220419T153000
DTEND;TZID=UTC:20220419T153000
DTSTAMP:20260422T152333
CREATED:20220316T171724Z
LAST-MODIFIED:20220316T171724Z
UID:7728-1650382200-1650382200@midtownid.com
SUMMARY:April Meeting
DESCRIPTION:
URL:http://midtownid.com/event/april-meeting
LOCATION:Midtown ID\, Courtyard Orlando Lake Nona\, 6955 Lake Nona Blvd.\, Orlando\, Florida 32827
END:VEVENT
BEGIN:VEVENT
DTSTART;TZID=America/New_York:20220407T153000
DTEND;TZID=America/New_York:20220407T153000
DTSTAMP:20260422T152333
CREATED:20220426T144038Z
LAST-MODIFIED:20220628T154929Z
UID:7857-1649345400-1649345400@midtownid.com
SUMMARY:Construction Committee Meeting- Meeting April 7 Cancelled
DESCRIPTION:
URL:http://midtownid.com/event/construction-committee-meeting-meeting-cancelled-9
END:VEVENT
BEGIN:VEVENT
DTSTART;TZID=America/New_York:20220324T153000
DTEND;TZID=America/New_York:20220324T153000
DTSTAMP:20260422T152333
CREATED:20220426T143545Z
LAST-MODIFIED:20220628T154955Z
UID:7855-1648135800-1648135800@midtownid.com
SUMMARY:Construction Committee Meeting- Meeting March 24 Cancelled
DESCRIPTION:
URL:http://midtownid.com/event/construction-committee-meeting-meeting-cancelled-8
END:VEVENT
BEGIN:VEVENT
DTSTART;TZID=UTC:20220315T153000
DTEND;TZID=UTC:20220315T153000
DTSTAMP:20260422T152333
CREATED:20220316T171602Z
LAST-MODIFIED:20220316T171602Z
UID:7726-1647358200-1647358200@midtownid.com
SUMMARY:March Meeting
DESCRIPTION:
URL:http://midtownid.com/event/march-meeting
LOCATION:Midtown ID\, Courtyard Orlando Lake Nona\, 6955 Lake Nona Blvd.\, Orlando\, Florida 32827
END:VEVENT
BEGIN:VEVENT
DTSTART;TZID=America/New_York:20220310T153000
DTEND;TZID=America/New_York:20220310T153000
DTSTAMP:20260422T152333
CREATED:20220426T143431Z
LAST-MODIFIED:20220426T143434Z
UID:7853-1646926200-1646926200@midtownid.com
SUMMARY:Construction Committee Meeting- Meeting Cancelled
DESCRIPTION:
URL:http://midtownid.com/event/construction-committee-meeting-meeting-cancelled-7
END:VEVENT
BEGIN:VEVENT
DTSTART;TZID=America/New_York:20220224T153000
DTEND;TZID=America/New_York:20220224T153000
DTSTAMP:20260422T152333
CREATED:20220426T143319Z
LAST-MODIFIED:20220629T090441Z
UID:7851-1645716600-1645716600@midtownid.com
SUMMARY:Construction Committee Meeting- February 24 Cancelled
DESCRIPTION:
URL:http://midtownid.com/event/construction-committee-meeting-meeting-cancelled-6
END:VEVENT
BEGIN:VEVENT
DTSTART;TZID=UTC:20220215T153000
DTEND;TZID=UTC:20220215T153000
DTSTAMP:20260422T152333
CREATED:20220316T171452Z
LAST-MODIFIED:20220316T171452Z
UID:7724-1644939000-1644939000@midtownid.com
SUMMARY:February Meeting
DESCRIPTION:
URL:http://midtownid.com/event/february-meeting
LOCATION:Midtown ID\, Courtyard Orlando Lake Nona\, 6955 Lake Nona Blvd.\, Orlando\, Florida 32827
END:VEVENT
BEGIN:VEVENT
DTSTART;TZID=America/New_York:20220210T153000
DTEND;TZID=America/New_York:20220210T153000
DTSTAMP:20260422T152333
CREATED:20220426T142950Z
LAST-MODIFIED:20220705T191038Z
UID:7849-1644507000-1644507000@midtownid.com
SUMMARY:Construction Committee Meeting February 10 Cancelled
DESCRIPTION:2-10-22 PDF | RTF\n2-10-22 Updated PDF | RTF
URL:http://midtownid.com/event/construction-committee-meeting-meeting-cancelled-5
END:VEVENT
END:VCALENDAR